BEGIN:VCALENDAR
VERSION:2.0
PRODID:-//VOX ISM - ECPv6.15.20//NONSGML v1.0//EN
CALSCALE:GREGORIAN
METHOD:PUBLISH
X-ORIGINAL-URL:https://voxism.com
X-WR-CALDESC:Events for VOX ISM
REFRESH-INTERVAL;VALUE=DURATION:PT1H
X-Robots-Tag:noindex
X-PUBLISHED-TTL:PT1H
BEGIN:VTIMEZONE
TZID:America/Toronto
BEGIN:DAYLIGHT
TZOFFSETFROM:-0500
TZOFFSETTO:-0400
TZNAME:EDT
DTSTART:20220313T070000
END:DAYLIGHT
BEGIN:STANDARD
TZOFFSETFROM:-0400
TZOFFSETTO:-0500
TZNAME:EST
DTSTART:20221106T060000
END:STANDARD
BEGIN:DAYLIGHT
TZOFFSETFROM:-0500
TZOFFSETTO:-0400
TZNAME:EDT
DTSTART:20230312T070000
END:DAYLIGHT
BEGIN:STANDARD
TZOFFSETFROM:-0400
TZOFFSETTO:-0500
TZNAME:EST
DTSTART:20231105T060000
END:STANDARD
BEGIN:DAYLIGHT
TZOFFSETFROM:-0500
TZOFFSETTO:-0400
TZNAME:EDT
DTSTART:20240310T070000
END:DAYLIGHT
BEGIN:STANDARD
TZOFFSETFROM:-0400
TZOFFSETTO:-0500
TZNAME:EST
DTSTART:20241103T060000
END:STANDARD
END:VTIMEZONE
BEGIN:VEVENT
DTSTART;TZID=America/Toronto:20231101T133000
DTEND;TZID=America/Toronto:20231101T141500
DTSTAMP:20260421T060348
CREATED:20230925T140217Z
LAST-MODIFIED:20230925T140217Z
UID:10001628-1698845400-1698848100@voxism.com
SUMMARY:4 Essentials to get Microsoft Business Central Ready
DESCRIPTION:
URL:https://voxism.com/event/4-essentials-to-get-microsoft-business-central-ready/
CATEGORIES:Microsoft Dynamics Business Central
ATTACH;FMTTYPE=image/png:https://voxism.com/wp-content/uploads/April-2022-Event-Covers-26.png
END:VEVENT
BEGIN:VEVENT
DTSTART;TZID=America/Toronto:20231102T133000
DTEND;TZID=America/Toronto:20231102T141500
DTSTAMP:20260421T060348
CREATED:20230925T140819Z
LAST-MODIFIED:20230925T140819Z
UID:10001629-1698931800-1698934500@voxism.com
SUMMARY:Use AI to Accelerate Business Automation with Power Automate
DESCRIPTION:
URL:https://voxism.com/event/use-ai-to-accelerate-business-automation-with-power-automate/
CATEGORIES:Microsoft Dynamics Business Central
ATTACH;FMTTYPE=image/png:https://voxism.com/wp-content/uploads/April-2022-Event-Covers-27.png
END:VEVENT
BEGIN:VEVENT
DTSTART;TZID=America/Toronto:20231107T133000
DTEND;TZID=America/Toronto:20231107T143000
DTSTAMP:20260421T060348
CREATED:20231030T020646Z
LAST-MODIFIED:20231106T183138Z
UID:10001630-1699363800-1699367400@voxism.com
SUMMARY:A Walkthrough of Microsoft ERP Solution: For Accountants
DESCRIPTION:
URL:https://voxism.com/event/a-walktrough-of-microsoft-erp-solution-for-accountants/
CATEGORIES:Microsoft Dynamics Business Central
ATTACH;FMTTYPE=image/png:https://voxism.com/wp-content/uploads/April-2022-Event-Covers-30.png
END:VEVENT
BEGIN:VEVENT
DTSTART;TZID=America/Toronto:20231108T133000
DTEND;TZID=America/Toronto:20231108T141500
DTSTAMP:20260421T060348
CREATED:20231030T024119Z
LAST-MODIFIED:20231030T115607Z
UID:10001631-1699450200-1699452900@voxism.com
SUMMARY:Power Apps 101: How to
DESCRIPTION:
URL:https://voxism.com/event/power-apps-101-how-to/
CATEGORIES:Power BI
ATTACH;FMTTYPE=image/png:https://voxism.com/wp-content/uploads/April-2022-Event-Covers-34.png
END:VEVENT
BEGIN:VEVENT
DTSTART;TZID=America/Toronto:20231109T133000
DTEND;TZID=America/Toronto:20231109T141500
DTSTAMP:20260421T060348
CREATED:20231030T024411Z
LAST-MODIFIED:20231030T024411Z
UID:10001632-1699536600-1699539300@voxism.com
SUMMARY:How to use AI: Manufacturing
DESCRIPTION:
URL:https://voxism.com/event/how-to-use-ai-manufacturing/
CATEGORIES:Microsoft Dynamics Business Central
ATTACH;FMTTYPE=image/png:https://voxism.com/wp-content/uploads/April-2022-Event-Covers-35.png
END:VEVENT
BEGIN:VEVENT
DTSTART;TZID=America/Toronto:20231114T133000
DTEND;TZID=America/Toronto:20231114T143000
DTSTAMP:20260421T060348
CREATED:20231030T024733Z
LAST-MODIFIED:20231113T125033Z
UID:10001633-1699968600-1699972200@voxism.com
SUMMARY:Microsoft Service & Field Service
DESCRIPTION:
URL:https://voxism.com/event/microsoft-service-field-service/
CATEGORIES:Microsoft Dynamics 365
ATTACH;FMTTYPE=image/png:https://voxism.com/wp-content/uploads/April-2022-Event-Covers-45.png
END:VEVENT
BEGIN:VEVENT
DTSTART;TZID=America/Toronto:20231115T133000
DTEND;TZID=America/Toronto:20231115T141500
DTSTAMP:20260421T060348
CREATED:20231030T024958Z
LAST-MODIFIED:20231113T125503Z
UID:10001634-1700055000-1700057700@voxism.com
SUMMARY:How Sales Programs improve Reps Performances
DESCRIPTION:
URL:https://voxism.com/event/how-sales-programs-improve-reps-performances/
CATEGORIES:Microsoft Dynamics Business Central
ATTACH;FMTTYPE=image/png:https://voxism.com/wp-content/uploads/April-2022-Event-Covers-46.png
END:VEVENT
BEGIN:VEVENT
DTSTART;TZID=America/Toronto:20231116T133000
DTEND;TZID=America/Toronto:20231116T141500
DTSTAMP:20260421T060348
CREATED:20231030T025211Z
LAST-MODIFIED:20231113T125848Z
UID:10001635-1700141400-1700144100@voxism.com
SUMMARY:4 Steps to Future Proof your Marketing Strategy
DESCRIPTION:
URL:https://voxism.com/event/4-steps-to-future-proof-your-marketing-strategy/
CATEGORIES:Microsoft Dynamics Business Central
ATTACH;FMTTYPE=image/png:https://voxism.com/wp-content/uploads/April-2022-Event-Covers-47.png
END:VEVENT
BEGIN:VEVENT
DTSTART;TZID=America/Toronto:20231121T133000
DTEND;TZID=America/Toronto:20231121T143000
DTSTAMP:20260421T060348
CREATED:20231030T025410Z
LAST-MODIFIED:20231030T025412Z
UID:10001636-1700573400-1700577000@voxism.com
SUMMARY:Microsoft: How to Run your Shop Floor
DESCRIPTION:
URL:https://voxism.com/event/microsoft-how-to-run-your-shop-floor/
CATEGORIES:Microsoft Dynamics Business Central
ATTACH;FMTTYPE=image/png:https://voxism.com/wp-content/uploads/April-2022-Event-Covers-39.png
END:VEVENT
BEGIN:VEVENT
DTSTART;TZID=America/Toronto:20231122T133000
DTEND;TZID=America/Toronto:20231122T141500
DTSTAMP:20260421T060348
CREATED:20231030T025721Z
LAST-MODIFIED:20231030T025721Z
UID:10001637-1700659800-1700662500@voxism.com
SUMMARY:How to use AI: Accounting
DESCRIPTION:
URL:https://voxism.com/event/how-to-use-ai-accounting/
CATEGORIES:Microsoft Dynamics Business Central
ATTACH;FMTTYPE=image/png:https://voxism.com/wp-content/uploads/April-2022-Event-Covers-40.png
END:VEVENT
BEGIN:VEVENT
DTSTART;TZID=America/Toronto:20231123T133000
DTEND;TZID=America/Toronto:20231123T141500
DTSTAMP:20260421T060348
CREATED:20231030T030029Z
LAST-MODIFIED:20231030T030029Z
UID:10001638-1700746200-1700748900@voxism.com
SUMMARY:Recession Proof your Business with Microsoft
DESCRIPTION:
URL:https://voxism.com/event/recession-proof-your-business-with-microsoft/
CATEGORIES:Microsoft Dynamics Business Central
ATTACH;FMTTYPE=image/png:https://voxism.com/wp-content/uploads/April-2022-Event-Covers-41.png
END:VEVENT
BEGIN:VEVENT
DTSTART;TZID=America/Toronto:20231128T133000
DTEND;TZID=America/Toronto:20231128T143000
DTSTAMP:20260421T060348
CREATED:20231030T030243Z
LAST-MODIFIED:20231030T030244Z
UID:10001639-1701178200-1701181800@voxism.com
SUMMARY:Microsoft CRM: Sales and Marketing Working Together
DESCRIPTION:
URL:https://voxism.com/event/microsoft-crm-sales-and-marketing-working-together/
CATEGORIES:Microsoft Dynamics CRM
ATTACH;FMTTYPE=image/png:https://voxism.com/wp-content/uploads/April-2022-Event-Covers-42.png
END:VEVENT
BEGIN:VEVENT
DTSTART;TZID=America/Toronto:20231129T133000
DTEND;TZID=America/Toronto:20231129T141500
DTSTAMP:20260421T060348
CREATED:20231030T030456Z
LAST-MODIFIED:20231030T030456Z
UID:10001640-1701264600-1701267300@voxism.com
SUMMARY:3 Things Every Service Leader needs to know
DESCRIPTION:
URL:https://voxism.com/event/3-things-every-service-leader-needs-to-know/
CATEGORIES:Microsoft Dynamics 365
ATTACH;FMTTYPE=image/png:https://voxism.com/wp-content/uploads/April-2022-Event-Covers-43.png
END:VEVENT
BEGIN:VEVENT
DTSTART;TZID=America/Toronto:20231130T133000
DTEND;TZID=America/Toronto:20231130T141500
DTSTAMP:20260421T060348
CREATED:20231030T030653Z
LAST-MODIFIED:20231030T030653Z
UID:10001641-1701351000-1701353700@voxism.com
SUMMARY:Microsoft Teams AI
DESCRIPTION:
URL:https://voxism.com/event/microsoft-teams-ai/
CATEGORIES:Microsoft Dynamics 365
ATTACH;FMTTYPE=image/png:https://voxism.com/wp-content/uploads/April-2022-Event-Covers-44.png
END:VEVENT
END:VCALENDAR